BEGIN:VCALENDAR
VERSION:2.0
PRODID:icalendar-ruby
CALSCALE:GREGORIAN
METHOD:PUBLISH
BEGIN:VEVENT
DTSTAMP:20260423T100501Z
UID:6-1368129@standrewandstmargaret.org
DTSTART:20260805T160000Z
DTEND:20260805T170000Z
CLASS:PUBLIC
CREATED:20260422T214919
DESCRIPTION:All of our services may be viewed live at https://www.facebook.
 com/saintsofscotland/.
LAST-MODIFIED:20260422T214919
LOCATION:
SUMMARY:Noonday Mass
URL;VALUE=URI:https://www.standrewandstmargaret.org/events/noonday-mass/202
 6-08-05
END:VEVENT
END:VCALENDAR
