BEGIN:VCALENDAR
VERSION:2.0
PRODID:icalendar-ruby
CALSCALE:GREGORIAN
METHOD:PUBLISH
BEGIN:VEVENT
DTSTAMP:20260423T132752Z
UID:6-1368876@standrewandstmargaret.org
DTSTART:20260819T160000Z
DTEND:20260819T170000Z
CLASS:PUBLIC
CREATED:20260423T071855
DESCRIPTION:All of our services may be viewed live at https://www.facebook.
 com/saintsofscotland/.
LAST-MODIFIED:20260423T071855
LOCATION:
SUMMARY:Noonday Mass
URL;VALUE=URI:https://www.standrewandstmargaret.org/events/noonday-mass/202
 6-08-19
END:VEVENT
END:VCALENDAR
