BEGIN:VCALENDAR
VERSION:2.0
PRODID:icalendar-ruby
CALSCALE:GREGORIAN
METHOD:PUBLISH
BEGIN:VEVENT
DTSTAMP:20260423T232329Z
UID:6-1371862@standrewandstmargaret.org
DTSTART:20260930T160000Z
DTEND:20260930T170000Z
CLASS:PUBLIC
CREATED:20260423T185754
DESCRIPTION:All of our services may be viewed live at https://www.facebook.
 com/saintsofscotland/.
LAST-MODIFIED:20260423T185754
LOCATION:
SUMMARY:Noonday Mass
URL;VALUE=URI:https://www.standrewandstmargaret.org/events/noonday-mass/202
 6-09-30
END:VEVENT
END:VCALENDAR
