BEGIN:VCALENDAR
VERSION:2.0
PRODID:icalendar-ruby
CALSCALE:GREGORIAN
METHOD:PUBLISH
BEGIN:VEVENT
DTSTAMP:20260424T064854Z
UID:6-1372612@standrewandstmargaret.org
DTSTART:20261104T170000Z
DTEND:20261104T180000Z
CLASS:PUBLIC
CREATED:20260423T215112
DESCRIPTION:All of our services may be viewed live at https://www.facebook.
 com/saintsofscotland/.
LAST-MODIFIED:20260423T215112
LOCATION:
SUMMARY:Noonday Mass
URL;VALUE=URI:https://www.standrewandstmargaret.org/events/noonday-mass/202
 6-11-04
END:VEVENT
END:VCALENDAR
