BEGIN:VCALENDAR
VERSION:2.0
PRODID:icalendar-ruby
CALSCALE:GREGORIAN
METHOD:PUBLISH
BEGIN:VEVENT
DTSTAMP:20260419T143251Z
UID:188-1351523@standrewandstmargaret.org
DTSTART:20260429T233000Z
DTEND:20260430T003000Z
CLASS:PUBLIC
CREATED:20260419T074013
DESCRIPTION:
LAST-MODIFIED:20260419T074013
LOCATION:Undercroft
SUMMARY:Study on the Saints of the Church
URL;VALUE=URI:https://www.standrewandstmargaret.org/events/study-on-the-sai
 nts-of-the-church/2026-04-29
END:VEVENT
END:VCALENDAR
