BEGIN:VCALENDAR
VERSION:2.0
PRODID:icalendar-ruby
CALSCALE:GREGORIAN
METHOD:PUBLISH
BEGIN:VEVENT
DTSTAMP:20260419T214854Z
UID:188-1353012@standrewandstmargaret.org
DTSTART:20260527T233000Z
DTEND:20260528T003000Z
CLASS:PUBLIC
CREATED:20260419T150459
DESCRIPTION:
LAST-MODIFIED:20260419T150459
LOCATION:Undercroft
SUMMARY:Study on the Saints of the Church
URL;VALUE=URI:https://www.standrewandstmargaret.org/events/study-on-the-sai
 nts-of-the-church/2026-05-27
END:VEVENT
END:VCALENDAR
