BEGIN:VCALENDAR
VERSION:2.0
PRODID:icalendar-ruby
CALSCALE:GREGORIAN
METHOD:PUBLISH
BEGIN:VEVENT
DTSTAMP:20260420T012903Z
UID:188-1353760@standrewandstmargaret.org
DTSTART:20260610T233000Z
DTEND:20260611T003000Z
CLASS:PUBLIC
CREATED:20260419T184748
DESCRIPTION:
LAST-MODIFIED:20260419T184748
LOCATION:Undercroft
SUMMARY:Study on the Saints of the Church
URL;VALUE=URI:https://www.standrewandstmargaret.org/events/study-on-the-sai
 nts-of-the-church/2026-06-10
END:VEVENT
END:VCALENDAR
