BEGIN:VCALENDAR
VERSION:2.0
PRODID:icalendar-ruby
CALSCALE:GREGORIAN
METHOD:PUBLISH
BEGIN:VEVENT
DTSTAMP:20260420T031147Z
UID:188-1354504@standrewandstmargaret.org
DTSTART:20260617T233000Z
DTEND:20260618T003000Z
CLASS:PUBLIC
CREATED:20260419T222718
DESCRIPTION:
LAST-MODIFIED:20260419T222718
LOCATION:Undercroft
SUMMARY:Study on the Saints of the Church
URL;VALUE=URI:https://www.standrewandstmargaret.org/events/study-on-the-sai
 nts-of-the-church/2026-06-17
END:VEVENT
END:VCALENDAR
